BEGIN:VCALENDAR
VERSION:2.0
PRODID:-//wp-events-plugin.com//7.2.3.1//EN
TZID:Europe/Berlin
X-WR-TIMEZONE:Europe/Berlin
BEGIN:VEVENT
UID:28-1542@kalender.rosenheim.social
DTSTART;TZID=Europe/Berlin:20260421T180000
DTEND;TZID=Europe/Berlin:20260421T200000
DTSTAMP:20260420T164644Z
URL:https://kalender.rosenheim.social/events/film-buerglkopf/
SUMMARY:Film: „Bürglkopf
DESCRIPTION:Am 21.4. wird bei ROSA - dem Wohnzimmer für Alle in Rosenheim 
 der Doku-Film " gezeigt mit anschließendem Infotisch und Möglichkeit zum
  Austausch und Sachspendensammlung.\n\n&nbsp\;\n\n\n\nDer Bürglkopf ist e
 in Berg in Tirol\, auf dem sich auf 1300m Höhe ein Abschiebelager befinde
 t. Um in das nächste Dorf zu gelangen\, müssen sie mehrere Stunden laufe
 n und ihre Arbeit wird mit einem Stundenlohn von 1\,60€ entlohnt. Bereit
 s mehrfach sind Bewohner:innen in den Hungerstreik getreten\, um auf die u
 nmenschlichen Bedingungen aufmerksam zu machen. Zusätzlich ist es aufgrun
 d der Logistik das teuerste Lager in Österreich. Die Initiative Bürglkop
 f schließen fordert eine Schließung des Lagers und eine Unterbringung mi
 t besseren Bedingungen. Wir werden mit einem Infotisch da sein und freuen 
 uns über Austausch. Gerne können Spenden bei uns abgegeben werden: Männ
 erschuhe\, Männerkleidung\, funktionierende Handys\, Ladekabel\, Musikins
 trumente\, Bälle\, Spiele\, Bücher\, Trinkflaschen...
LOCATION:H3CKE - Makerspace Rosenheim\, Herzog-Otto-Straße 8a\, rosenheim\
 , 83022\, Deutschland
X-APPLE-STRUCTURED-LOCATION;VALUE=URI;X-ADDRESS=Herzog-Otto-Straße 8a\, ro
 senheim\, 83022\, Deutschland;X-APPLE-RADIUS=100;X-TITLE=H3CKE - Makerspac
 e Rosenheim:geo:0,0
END:VEVENT
BEGIN:VTIMEZONE
TZID:Europe/Berlin
X-LIC-LOCATION:Europe/Berlin
BEGIN:DAYLIGHT
DTSTART:20260329T030000
TZOFFSETFROM:+0100
TZOFFSETTO:+0200
TZNAME:CEST
END:DAYLIGHT
END:VTIMEZONE
END:VCALENDAR